BEGIN:VCALENDAR
VERSION:2.0
PRODID:-//AllEvents.lt//NONSGML Event//EN
BEGIN:VEVENT
UID:123784@allevents.lt
DTSTAMP:20260425T150050Z
DTSTART:20260716T170000
DTEND:20260716T181500
SUMMARY:JAZZICAL CLASS | P. Fleckenstein ir Ž. Brazauskas - AllEvents.lt
DESCRIPTION:https://allevents.lt/koncertai/pakruojis/pakruojo-sinagoga/123784-koncertas-jazzical-class-p-fleckenstein-ir-z-brazauskas-pakruojis-2026-bilietai\nŽilvinas Brazauskas – klarnetas / fortepijonas (Lietuva)Peter Fleckenstein – mušamieji / fortepijonas (Vokietija)Muzika, jungianti skirtingus pasaulius, – „Jazzical Class“ kviečia į netikėtumų kupiną muzikinę kelionę. Tarptautinio dueto koncertas pratęs jau įsibėgėjusį Camino Lituano muzikos festivalį ir nuskambės Pakruojo sinagogoje ir Alytaus audiovizualiųjų menų centre.2013 m. susibūrusį muzikinį tandemą sudaro Žilvinas Brazauskas (klarnetas ir fortepijonas) ir Peter Fleckenstein (mušamieji ir fortepijonas). Abu muzikantai yra įgiję klasikinės muzikos išsilavinimą Vokietijoje, o juos sujungė aistra džiazui – tapusi jų bendros kūrybos lauku, kuriame gimsta laisvas ir gyvas muzikinis dialogas. Jų muzikinė programa apima skirtingus stilius ir laikmečius – nuo džiazo standartų iki klasikos ir šiuolaikinių kūrinių, nuo popmuzikos atspalvių iki pačių atlikėjų sukurtų kompozicijų bei aranžuočių.Atlikėjų duetas jau koncertavo tokiose garsiose salėse kaip Berlyno „Konzerthaus“, Berlyno filharmonija ir Hamburgo „Tschaikowsky-Saal“, pasirodė festivaliuose „Kaunas Piano Fest“, „meetMUSIC Open Air“, „Elchinger Musiktage“ ir „Schleswig-Holstein Musikfestival“. Tarp įvairių jų pasirodymų erdvių - Kelno „Stadtgarten“ klubas bei populiarusis Berlyno džiazo klubas „A-Trane“.Projektą finansuoja Lietuvos kultūros taryba ir Saulio Karoso paramos ir labdaros fondas.   
LOCATION:Pakruojis, Kranto g. 8, Pakruojo sinagoga
BEGIN:VALARM
TRIGGER:-P2D
ACTION:DISPLAY
DESCRIPTION:Go to JAZZICAL CLASS | P. Fleckenstein ir Ž. Brazauskas!
END:VALARM
END:VEVENT
END:VCALENDAR
