BEGIN:VCALENDAR
VERSION:2.0
PRODID:-//AllEvents.lt//NONSGML Event//EN
BEGIN:VEVENT
UID:123788@allevents.lt
DTSTAMP:20260425T150152Z
DTSTART:20261114T190000
DTEND:20261114T210000
SUMMARY:Jessie Ware - AllEvents.lt
DESCRIPTION:https://allevents.lt/koncertai/vilnius/compensa-koncertu-sale/123788-koncertas-jessie-ware-vilnius-2026-bilietai\nBritų popmuzikos žvaigždė Jessie Ware rudenį surengs  koncertą Vilniuje!Lietuvos publikos mylima britų  muzikos žvaigždė Jessie Ware po ilgos pertraukos grįžta į sostinę. Lapkričio 14  d. Vilniuje, koncertų salėje „Compensa“ atlikėja pristatys naujausią savo  albumą „Superbloom“ ir gerai žinomus ir pamiltus kūrinius.                            Vienas  ryškiausių šiuolaikinės britų popmuzikos vardų, šių laikų disko muzikos diva J.  Ware per pastarąjį dešimtmetį pelnė kritikų ir klausytojų pripažinimą dėl  išskirtinio balso bei elegantiško, disko ir soulo muzikos įkvėpto skambesio.  Jessie Ware – ne kartą nominuota prestižiniams „Brit Awards“ ir „Mercury  Prize“ apdovanojimams, kurie yra vieni svarbiausių įvertinimų Jungtinės  Karalystės muzikos industrijoje, o jos bendrų projektų sąraše tokie vardai  kaip Kylie Minogue, Edas Sheeranas, „Disclosure“, SBTRKT ir kiti.    Naujausias,  balandžio 17 d. pasirodysiantis šeštasis studijinis albumas  „Superbloom“ žymi dar vieną etapą atlikėjos kūryboje – čia Jessie dar labiau  gilinasi į disko estetiką, kūriniai alsuoja legendinio naktinio klubo „Studio  54“ energija ir prabanga. „Superbloom“ tęsia kryptį, pradėtą su „What’s Your  Pleasure?“ ir „That! Feels Good!“ albumais, kuriuose J. Ware atrado tobulą  disko, fanko ir pop muzikos formulę. Klausytojai „Superbloom“ rinkinyje ras  daug asmeniškų temų, kurios rūpi Jessie ir kiekvienam iš mūsų – meilės, artumo  ir ryšio paieškos.    Be muzikos, J.  Ware turi ir kitą labai sėkmingą veiklą – kartu su mama Lennie ji kuria  tinklalaidę „Table Manners“. Tai jaukus, lengvas pokalbių formatas, kuriame  žymūs svečiai kviečiami prie bendro vakarienės stalo. Čia kalbama apie viską:  nuo muzikos ir kino iki asmeninių istorijų, gyvenimo užkulisių. Tinklalaidė  startavo 2017 m. ir greitai tapo viena populiariausių Jungtinėje Karalystėje,  renka dešimtis milijonų perklausų, o svečiuose lankėti tokios garsenybės kaip  Paulas McCartney, Dua Lipa ar Kate Winslet. Projektas su mama atskleidžia kitą  Jessie pusę – ten ji ne sceną valdanti diva, o šilta ir nuoširdi draugė.  Būtent dėl to klausytojai ją dar labiau pamėgo – ne tik už muziką, bet ir už  paprastumą bei gebėjimą kurti tikrą ryšį su pašnekovu.    Gyvuose  pasirodymuose J. Ware garsėja charizmatiškais, teatrališkais pasirodymais ir  gebėjimu sukurti elegantišką, bet tuo pačiu ir energingą atmosferą.  Lapkričio 14 d. Vilniuje bus proga išgirsti tiek naujausią „Superbloom“  kūrybą, tiek didžiausius hitus, jau tapusius šiuolaikinės popmuzikos klasika –  „Say You Love Me“, „Free Yourself“, „Spotlights“ ir kitus. Romantiškas ir  nuostabios muzikos kupinas vakaras su Jessie Ware – jau lapkričio 14 d.  Vilniuje, koncertų salėje „Compensa“. 
LOCATION:Vilnius, Kernavės g. 84, COMPENSA koncertų salė
BEGIN:VALARM
TRIGGER:-P2D
ACTION:DISPLAY
DESCRIPTION:Go to Jessie Ware!
END:VALARM
END:VEVENT
END:VCALENDAR
