BEGIN:VCALENDAR
VERSION:2.0
PRODID:-//AllEvents.lt//NONSGML Event//EN
BEGIN:VEVENT
UID:123789@allevents.lt
DTSTAMP:20260425T150029Z
DTSTART:20261120T183000
DTEND:20261120T201000
SUMMARY:LAI SKAMBA LIETUVA - AllEvents.lt
DESCRIPTION:https://allevents.lt/koncertai/kaunas/kauno-valstybine-filharmonija/123789-koncertas-lai-skamba-lietuva-kaunas-2026-bilietai\nAtlikėjai:LIETUVOS NACIONALINIS SIMFONINIS ORKESTRASMeno vadovas ir vyr. dirigentas Modestas PitrėnasVALSTYBINIS CHORAS „VILNIUS“Meno vadovas ir vyr. dirigentas Artūras DambrauskasSolistai:IEVA BARBORA JUOZAPAITYTĖ-VARNIENĖ (sopranas)VYTAUTAS JUOZAPAITIS (baritonas)Dirigentas ROBERTAS ŠERVENIKASProgramoje:I d.MIKALOJUS KONSTANTINAS ČIURLIONIS – uvertiūra „Kęstutis“MIKAS PETRAUSKAS:Operos „Birutė“ uvertiūraBirutės arija iš operos „Birutė“AMILCARE PONCHIELLI:Operos „Lietuviai“ uvertiūraAldonos arija iš operos „Lietuviai“Aldonos ir Arnoldo duetas iš operos „Lietuviai“BALYS DVARIONAS – Dalios arija iš operos „Dalia“VYTAUTAS KLOVA – Ūdrio daina iš operos „Pilėnai“JUOZAS GRUODIS – „Oi ant kalno“JUOZAS TALLAT-KELPŠA – ,,Už aukštųjų kalnelių“II d.DONATAS ZAKARAS – „Gloria Patri“ iš „Magnificat“ chorui  ir styginių orkestruiLINAS RIMŠA – „Cantus. Amemus“ALGIRDAS MARTINAITIS – „Himnas meilei“ iš oratorijos  „Tikėjimo ir vilties invokacijos“ chorui ir orkestruiVYTAUTAS KERNAGIS – „Baltas paukštis“ solistams, chorui  ir orkestrui                          Kaip skamba Lietuva? Kauno valstybinė filharmonija kviečia klausytojus į  koncertą, kuriuo be išlygų galima būtų paminėti bet kurią svarbią Lietuvai ir  jos žmonėms datą.     Iškiliausi Lietuvos kolektyvai ir solistai atliks tikrą lietuviškos muzikos  retrospektyvą, kurioje skambės lietuvių kompozitorių sukurti arba tampriai su  Lietuva susiję kūriniai. Bus galima išgirsti tiek praėjusiuose amžiuose gimusią  muziką, tiek dabartinėmis dienomis sukurtus opusus, alsuojančius lietuvybe ir  meile mūsų Tėvynei. Tad lai skamba Lietuva!    Prieš  koncertą vyks pokalbis–susitikimas su muzikologe dr. Aušra  Strazdaite-Ziberkiene, kuri supažindins klausytojus su lietuviškos muzikos  raida bei ypatumais. Susitikimas vyks 17.50 val. Kauno valstybinės  filharmonijos orkestrinėje (5 aukštas), trukmė – 30 min. Įėjimas į susitikimą  tik su koncerto bilietais. Vietų skaičius ribotas, būtina registracija  užpildant registracijos formą.    Durys  atidaromos 17.30 val. Labai apgailestaujame, bet renginys nepritaikytas  judėjimo negalią turintiems lankytojams ar sunkiau judantiems asmenims  (negalintiems aukštai lipti laiptais). 
LOCATION:Kaunas, E. Ožeškienės g. 12, Kauno valstybinė filharmonija
BEGIN:VALARM
TRIGGER:-P2D
ACTION:DISPLAY
DESCRIPTION:Go to LAI SKAMBA LIETUVA!
END:VALARM
END:VEVENT
END:VCALENDAR
