BEGIN:VCALENDAR
VERSION:2.0
PRODID:-//AllEvents.lt//NONSGML Event//EN
BEGIN:VEVENT
UID:123790@allevents.lt
DTSTAMP:20260425T150050Z
DTSTART:20261122T170000
DTEND:20261122T180000
SUMMARY:DEDIKACIJA KOTRYNAI JOGAILAITEI - AllEvents.lt
DESCRIPTION:https://allevents.lt/koncertai/kaunas/kauno-valstybine-filharmonija/123790-koncertas-dedikacija-kotrynai-jogailaitei-kaunas-2026-bilietai\nAtlikėjai:LIETUVOS SIMFONINIS  PUČIAMŲJŲ ORKESTRASMeno vadovas Antanas  Kučinskas, vyr. dirigentas Karolis VariakojisKAUNO VALSTYBINIS  CHORASMeno vadovas ir vyr.  dirigentas Robertas ŠervenikasSolistasMODESTAS SEDLEVIČIUS  (baritonas)Dirigentas KAROLIS  VARIAKOJISLibreto autorius –  RIMVYDAS STANKEVIČIUSProgramoje:LAIMIS VILKONČIUS –  oratorija „Neo Nisi Mors“ baritonui, chorui ir simfoniniam pučiamųjų orkestrui  (pasaulinė premjera)                          2026 m. minime Lietuvos  didžiojo kunigaikščio dukters ir Švedijos karalienės Kotrynos Jogailaitės  500-ąsias gimimo metines. Ši Renesanso laikų lietuvė, kilusi iš galingos  Jogailaičių dinastijos ir tapusi karaliene, laikoma viena ryškiausių to  laikotarpio moterų iš Lietuvos Didžiosios Kunigaikštystės. Jos gyvenimas įkvėpė  kompozitorių, Vyriausybės kultūros ir meno premijos laureatą Laimį Vilkončių  sukurti naują muzikinį kūrinį.     Apie Kotrynos Jogailaitės  asmenybę ir istorinį vaidmenį pastaruoju metu kalbama vis daugiau. Ji buvo  jauniausia Žygimanto Senojo ir Bonos Sforcos duktė, Žygimanto Augusto sesuo,  Suomijos kunigaikštienė, Švedijos karalienė, o jos sūnus Zigmantas Vaza pradėjo  Abiejų Tautų Respublikos valdovų Vazų dinastiją.     Kotrynos Jogailaitės, dar  vadinamos „rožės ir akmens karaliene“,  gyvenimo istorija, asmeninio pasiaukojimo, pareigos tema tapo siužetine L.  Vilkončiaus naujausios oratorijos ašimi, kuri simboliškai išreikšta ir kūrinio  pavadinime „Neo nisi mors“ (liet. Niekas, išskyrus mirtis) – toks  užrašas yra ant Kotrynos Jogailaitės antkapio Upsaloje (Švedija). Jos istorija  ir šiandien įkvepia drąsos būti savimi, atrasti vidinę jėgą ir ramiai,  pasitikint savo intuicija, priimti pokyčius, vedančius į atradimus.     Dešimties dalių oratorijos  libretą parašė Nacionalinės kultūros ir meno premijos laureatas Rimvydas  Stankevičius, o kūrinį atliks ne taip dažnai scenoje kartu pasirodantys  Lietuvos simfoninis pučiamųjų orkestras ir Kauno valstybinis choras kartu su  talentingais jaunosios kartos menininkais – operos solistu Modestu Sedlevičiumi  ir dirigentu Karoliu Variakojiu.     Išskirtinė proga – kviečiame į šį lietuvybę  puoselėjantį koncertą ateiti pasipuošus tautiniu kostiumu! Pirmiesiems 50  užsiregistravusių klausytojų, įėjimas į koncertą su tautiniu kostiumu nemokamas  (būtina registracija užpildant registracijos formą, registracija vyks iki 2026  m. lapkričio 16 d.).
LOCATION:Kaunas, E. Ožeškienės g. 12, Kauno valstybinė filharmonija
BEGIN:VALARM
TRIGGER:-P2D
ACTION:DISPLAY
DESCRIPTION:Go to DEDIKACIJA KOTRYNAI JOGAILAITEI!
END:VALARM
END:VEVENT
END:VCALENDAR
