BEGIN:VCALENDAR
VERSION:2.0
PRODID:-//AllEvents.lt//NONSGML Event//EN
BEGIN:VEVENT
UID:123792@allevents.lt
DTSTAMP:20260425T150050Z
DTSTART:20261213T180000
DTEND:20261213T181500
SUMMARY:TYRI ATSPINDŽIAI - AllEvents.lt
DESCRIPTION:https://allevents.lt/koncertai/kaunas/kauno-valstybine-filharmonija/123792-koncertas-tyri-atspindziai-kaunas-2026-bilietai\nAtlikėjai:RŪTA  ŠVIPAITĖ (vokalas)JANAS  MAKSIMOVIČIUS (saksofonas)ARMANAS  ISOJANAS (kontrabosas)VITALIJUS  NEUGASIMOVAS (fortepijonas)                          „Tyri atspindžiai“  – tai šiuolaikiškas gerai žinomų klasikinių kūrinių pateikimas. Nors dauguma interpretacijų primena  džiazo muziką, tačiau čia galima įžvelgti popmuzikos, folkmuzikos, Naujojo  amžiaus (New age), lotynų ir kitų muzikos stilių bruožus su gausiais  improvizaciniais elementais, kurie suteikia šiai koncertinei programai  išskirtinio žavesio.    Muzikinis  projektas „Pure Reflections“ („Tyri atspindžiai“)  gimė 2019 m. Jame jėgas suvienijo džiazo dainininkė Rūta Švipaitė,  saksofonininkas Janas Maksimovičius, kontrabosininkas Armanas Isojanas ir  pianistas Vitalijus Neugasimovas. Turintys didelę koncertinę patirtį,  kiekvienas jų palieka nepakartojamą potėpį šiame bendrame muzikiniame  paveiksle.     Programoje skamba  populiarios Renesanso, Baroko, klasicizmo ir romantizmo epochų arijos, dainos  bei instrumentinės improvizacijos pagal klasikines temas. Klausytojai turės  galimybę išgirsti ir kelias autorines kompozicijas.
LOCATION:Kaunas, E. Ožeškienės g. 12, Kauno valstybinė filharmonija
BEGIN:VALARM
TRIGGER:-P2D
ACTION:DISPLAY
DESCRIPTION:Go to TYRI ATSPINDŽIAI!
END:VALARM
END:VEVENT
END:VCALENDAR
