BEGIN:VCALENDAR
VERSION:2.0
PRODID:-//AllEvents.lt//NONSGML Event//EN
BEGIN:VEVENT
UID:123793@allevents.lt
DTSTAMP:20260425T150142Z
DTSTART:20261217T183000
DTEND:20261217T200000
SUMMARY:MINDAUGO STUMBRO KVARTETAS - AllEvents.lt
DESCRIPTION:https://allevents.lt/koncertai/kaunas/kauno-valstybine-filharmonija/123793-koncertas-mindaugo-stumbro-kvartetas-kaunas-2026-bilietai\nAtlikėjai:MINDAUGAS  STUMBRAS (gitara)KAROLIS  ŠARKUS (saksofonas)GEDIMINAS  STEPANAVIČIUS (kontrabosas)TUOMAS  RÄSÄNEN (būgnai, perkusija)                          Vienas  ryškiausių Lietuvos džiazo gitaristų ir kompozitorių Mindaugas Stumbras Kauno  filharmonijos scenoje pristato savo autorinę muziką. Tai – muzikinė  kelionė, atskleidžianti platų menininko kūrybos spektrą – nuo subtilių  akustinių tekstūrų iki intensyvių, energija pulsuojančių džiazo improvizacijų.     M.  Stumbro muzikoje susilieja emocionalumas, intelektualumas ir subtili garso  estetika. Tarptautinėje scenoje įsitvirtinęs atlikėjas yra baigęs Škotijos  Karališkąją konservatoriją, o jo kūryba skamba prestižiniuose Europos džiazo  festivaliuose ir klubuose.    Koncerte  atlikėjas kartu su jo suburtu kvartetu atliks autorinę muziką iš albumų „Among  the Pines“, „Inspirations“ bei naujausio darbo „The Spinner of Yarns“, taip pat  skambės ir keletas visiškai naujų, dar niekur neskambėjusių kūrinių.    Kiekviena  kompozicija čia – tarsi savarankiška istorija, persmelkta asmeninių patirčių,  kultūrinių įspūdžių ir vidinių ieškojimų. Šiose istorijose susipina džiazo  improvizacijos laisvė, pasaulio muzikos spalvos ir šiuolaikinės harmonijos,  kurias kvartetas įtaigiai atskleidžia gyvo pasirodymo metu.
LOCATION:Kaunas, E. Ožeškienės g. 12, Kauno valstybinė filharmonija
BEGIN:VALARM
TRIGGER:-P2D
ACTION:DISPLAY
DESCRIPTION:Go to MINDAUGO STUMBRO KVARTETAS!
END:VALARM
END:VEVENT
END:VCALENDAR
