BEGIN:VCALENDAR
VERSION:2.0
PRODID:-//AllEvents.lt//NONSGML Event//EN
BEGIN:VEVENT
UID:123794@allevents.lt
DTSTAMP:20260425T150141Z
DTSTART:20261219T170000
DTEND:20261219T180000
SUMMARY:MEILĖ. AISTRA. ILGESYS. - AllEvents.lt
DESCRIPTION:https://allevents.lt/koncertai/kaunas/kauno-valstybine-filharmonija/123794-koncertas-meile-aistra-ilgesys-kaunas-2026-bilietai\nAtlikėjai:XYLOS DUOIeva Pranskutė-Brajković (smuikas)Mislav Brajković (violončelė)AUGUSTINAS RAKAUSKAS (akordeonas)Programoje:ÁSTOR PIAZZOLLA:„Libertango“  („Laisvės tango“)„Escualo“ („Ryklys“)„Café 1930“ („Kavinė 1930“) iš ciklo „Histoire du Tango“ („Tango istorija“)„Ave Maria“ („Sveika, Marija“) iš ciklo „Tanti anni prima“ („Prieš daugelį metų“)„Le Grand Tango“ („Didysis tango“)„Las Cuatro Estaciones Porteñas“  („Keturi metų laikai“)„Oblivion“ („Užmarštis“)                  Šis koncertas – tai kvietimas į jausmų, aistros ir  subtilios elegancijos pasaulį, kuriame skambės patys gražiausi Ástoro  Piazzollos kūriniai. Tai muzika, kurioje susilieja tango ritmai, klasikos  gilumas ir improvizacijos laisvė – muzika, paliečianti pačias jautriausias  širdies stygas.    Scenoje – į duetą XYLOS DUO susibūrę solistai Ieva  Pranskutė-Brajković ir Mislavas Brajkovićius, daugiau nei dešimtmetį kartu  muzikuojantys ir kuriantys išskirtinę muzikinę patirtį. Scenos ir gyvenimo  partneriai, socialinėje erdvėje žinomi kaip @ieva__music ir @kingsstring, savo  muzika įkvepia tūkstančius klausytojų visame pasaulyje. Jų atliekama muzika  alsuoja tikrumu, jautrumu ir ypatingu tarpusavio ryšiu, kuris nepalieka  abejingų.     Prie šio dueto prisijungs vienas ryškiausių Lietuvos  akordeonininkų Augustinas Rakauskas – jo  muzikalumas ir subtili interpretacija suteikia ansambliui dar daugiau spalvų.  Muzikanto jautrumas ir gebėjimas išgirsti bei papildyti bendrą skambesį įneša  ypatingą indėlį į koncertinę programą ir praturtina kiekvieną kūrinį naujomis  emocijomis.     Tai vakaras, kuriame skambės ne tik muzika – tai istorijos  apie meilę, ilgesį, aistrą ir gyvenimo grožį. Tai patirtis, kuri kviečia  sustoti, įsiklausyti ir leisti kalbėti muzikai.
LOCATION:Kaunas, E. Ožeškienės g. 12, Kauno valstybinė filharmonija
BEGIN:VALARM
TRIGGER:-P2D
ACTION:DISPLAY
DESCRIPTION:Go to MEILĖ. AISTRA. ILGESYS.!
END:VALARM
END:VEVENT
END:VCALENDAR
