BEGIN:VCALENDAR
VERSION:2.0
PRODID:-//AllEvents.lt//NONSGML Event//EN
BEGIN:VEVENT
UID:123795@allevents.lt
DTSTAMP:20260425T150142Z
DTSTART:20261221T183000
DTEND:20261221T203000
SUMMARY:ROKO BALADĖS - AllEvents.lt
DESCRIPTION:https://allevents.lt/koncertai/kaunas/kauno-valstybine-filharmonija/123795-koncertas-roko-balades-kaunas-2026-bilietai\nAtlikėjai:LIETUVOS VALSTYBINIS SIMFONINIS ORKESTRASMeno vadovas ir vyr. dirigentas Gintaras RinkevičiusSolistai:ČESLOVAS GABALIS (vokalas)JERONIMAS MILIUS (vokalas)Dirigentas GINTARAS RINKEVIČIUS   Programoje:„Queen“, „Metallica“, Bon Jovi, Billy Idol, Phil Collins bei kitų grupių ir atlikėjų dainosKaip  ir kasmet, artėjant gražiausioms metų šventėms kviečiame jas pasitikti kartu su  Lietuvos valstybiniu simfoniniu orkestru, Lietuvos roko scenos žvaigždėmis  Česlovu Gabaliu, Jeronimu Miliumi ir vienu sėkmingiausiu visų laikų projektu  „Roko baladės“!Šiemet  „Roko baladės“ skaičiuoja jau 17-tus gyvavimo metus, per kuriuos koncertuose  skambėjo daugiau nei 100 simfoniniam orkestrui aranžuotų geriausių visų laikų  roko klasikos kūrinių. Projektas vienija roko ir simfoninės muzikos gerbėjus,  stebina profesionalumu, kūrybiškumu ir užburia gyva energija. Kas kartą  apsilankę žino – ši patirtis nepalieka abejingų. Kokia šios magijos paslaptis?  Profesionalumas, kūrybiškumas, charizma ir geros emocijos. Atlikėjai garantuoja  – jų šį vakarą patirsite su kaupu.Talentu  ir ypatinga charizma apdovanoti vokalistai Č. Gabalis ir J. Milius šį vakarą  kartu su Lietuvos valstybiniu simfoniniu orkestru, vadovaujamu meno vadovo ir  vyr. dirigento maestro Gintaro Rinkevičiaus, atliks garsiausius „Queen“,  „Metallica“, Bon Jovi, Billy Idolo, Philo Collinso ir kitų hitus. Didžiausios  scenos, milijonai parduotų įrašų ir minios gerbėjų visame pasaulyje – šios  grupės ir atlikėjai buvo atskiri reiškiniai muzikinės kultūros istorijoje. Jų  kūriniai seniai tapo kiekvieno muzikos mėgėjo gyvenimo dalimi, o dainų tekstus  visame pasaulyje iki šiol mintinai moka tūkstančiai. 
LOCATION:Kaunas, E. Ožeškienės g. 12, Kauno valstybinė filharmonija
BEGIN:VALARM
TRIGGER:-P2D
ACTION:DISPLAY
DESCRIPTION:Go to ROKO BALADĖS!
END:VALARM
END:VEVENT
END:VCALENDAR
