BEGIN:VCALENDAR
VERSION:2.0
PRODID:-//AllEvents.lt//NONSGML Event//EN
BEGIN:VEVENT
UID:76703@allevents.lt
DTSTAMP:20260421T111707Z
DTSTART:20251212T190000
DTEND:20251212T203000
SUMMARY:Hiperbolės įkūrėjas Viktoras Prapras su grupe „Aš dar dainuosiu!“ - AllEvents.lt
DESCRIPTION:https://allevents.lt/koncertai/birstonas/birstono-kulturos-centras/76703-koncertas-hiperboles-ikurejas-viktoras-prapras-su-grupe-as-dar-dainuosiu-birstonas-2025-bilietai\nRenginyje skambės melodijos, su kuriomis užaugome, kurios lydėjo ir  vienijo mus visą gyvenimą, kurios suvirpins jūsų širdis ir daugeliui primins  jaunystę bei pakvies patirti teigiamas emocijas! „Šis  koncertas – tarsi susitikimas su senais draugais“ – sako į savo ir grupės  koncertą kviečiantis populiariausios Lietuvos grupės įkūrėjas - Viktoras Prapras, kurio  vardas neatsiejamas nuo lietuviškos roko ir popmuzikos istorijos bei legendinės  grupės „Hiperbolė“. Po ilgos pertraukos į sceną sugrįžusio maestro pasirodymas  su grupe – tai nostalgiška kelionė per visų laikų klausytojų širdis  užkariavusias melodijas ir kūrinius, kuriuose dera brandi patirtis ir meilė  muzikai. Tai pačios ryškiausios Hiperbolės dainos: Tu grok, Pamiršk mane, Išgalvotas gyvenimas, Daktarai, Aš dar dainuosiu,  Laužai, Vasara,  Kai nieko neturi, Ieškosiu tavęs, Vandens ženklai, Sugrįžk ir kiti kūriniai. Išreikšdami pagarbą  legendiniam kolektyvui, maloniai kviečiame  aplankyti   šį nuostabų koncertą!        
LOCATION:Birštonas, Jaunimo g. 4, Birštono kultūros centras
BEGIN:VALARM
TRIGGER:-P2D
ACTION:DISPLAY
DESCRIPTION:Go to Hiperbolės įkūrėjas Viktoras Prapras su grupe „Aš dar dainuosiu!“!
END:VALARM
END:VEVENT
END:VCALENDAR
