BEGIN:VCALENDAR
VERSION:2.0
PRODID:-//AllEvents.lt//NONSGML Event//EN
BEGIN:VEVENT
UID:83277@allevents.lt
DTSTAMP:20260421T111638Z
DTSTART:20260214T170000
DTEND:20260214T183000
SUMMARY:Hiperbolės įkūrėjas Viktoras Prapras su grupe „Aš dar dainuosiu!“ | Panevėžys - AllEvents.lt
DESCRIPTION:https://allevents.lt/koncertai/panevezys/panevezio-kulturos-centras/83277-koncertas-hiperboles-ikurejas-viktoras-prapras-su-grupe-as-dar-dainuosiu-panevezys-panevezys-2026-bilietai\nŠvenčiant  Šv. Valentino dieną, vasario 14d. 17.00. Panevėžio Kultūros centre skambės  melodijos, su kuriomis užaugome, kurios lydėjo  ir vienijo mus  visą gyvenimą, kurios suvirpins jūsų širdis ir daugeliui primins  jaunystę bei pakvies patirti teigiamas emocijas! „Šis renginys  –tarsi susitikimas su senais draugais“ – sako į koncertą kviečiantis populiariausios Lietuvos grupės įkūrėjas - Viktoras Prapras, kurio vardas neatsiejamas nuo lietuviškos roko ir  popmuzikos istorijos bei legendinės grupės „Hiperbolė“. Po ilgos  pertraukos į sceną sugrįžusio maestro su grupe pasirodymas– tai nostalgiška  kelionė per visų laikų klausytojų širdis užkariavusias melodijas ir kūrinius,  kuriuose dera brandi patirtis ir meilė muzikai. Tai pačios ryškiausios „Hiperbolės“  dainos: Tu grok, Pamiršk mane, Laužai, Vasara, Išgalvotas gyvenimas, Daktarai, Aš dar dainuosiu, Kai nieko  neturi, Vandens ženklai, Sugrįžk ir  kiti puikūs kūriniai. Išreikšdami pagarbą legendiniam kolektyvui, maloniai kviečiame  aplankyti  šį nuostabų koncertą! Mylėkite vieni kitus ir  būkite mylimi !!
LOCATION:Panevėžys, Kranto g. 28, Panevėžio kultūros centras
BEGIN:VALARM
TRIGGER:-P2D
ACTION:DISPLAY
DESCRIPTION:Go to Hiperbolės įkūrėjas Viktoras Prapras su grupe „Aš dar dainuosiu!“ | Panevėžys!
END:VALARM
END:VEVENT
END:VCALENDAR
