BEGIN:VCALENDAR
VERSION:2.0
PRODID:-//AllEvents.lt//NONSGML Event//EN
BEGIN:VEVENT
UID:95749@allevents.lt
DTSTAMP:20260421T125139Z
DTSTART:20260318T200000
DTEND:20260318T220000
SUMMARY:KAZIMIERAS LIKŠA | TURAS „DEGA“ | VILNIUS - AllEvents.lt
DESCRIPTION:https://allevents.lt/koncertai/vilnius/kablys-kultura/95749-koncertas-kazimieras-liksa-turas-dega-vilnius-vilnius-2026-bilietai\nKazimieras Likša grįžta su grupe ir rengia  didžiausius koncertus savo muzikiniame kelyje.Naujas etapas. Nauja muzika. Naujas  skambesys. Ir visos geriausios iki šiol skambėjusios dainos."Labai kviečiu būti kartu. Jaudinuosi,  bet sukursiu ypatingą patirtį Jums ir sau. Todėl reikia tik Jūsų. Daugiau  nieko. Mano muzika ir viskas, kas joje sudėta, yra skirta Jums. Tikiu, kad tai  jaučiate. Lauksiu labai kiekvieno. Kaip ir visada", - Kazimieras Likša
LOCATION:Vilnius, Kauno g. 5, Kablys + Kultūra
BEGIN:VALARM
TRIGGER:-P2D
ACTION:DISPLAY
DESCRIPTION:Go to KAZIMIERAS LIKŠA | TURAS „DEGA“ | VILNIUS!
END:VALARM
END:VEVENT
END:VCALENDAR
